BEGIN:VCALENDAR
VERSION:2.0
PRODID:-//Jong Nederland Hegelsom - ECPv6.15.12.2//NONSGML v1.0//EN
CALSCALE:GREGORIAN
METHOD:PUBLISH
X-WR-CALNAME:Jong Nederland Hegelsom
X-ORIGINAL-URL:https://jnhegelsom.nl
X-WR-CALDESC:Evenementen voor Jong Nederland Hegelsom
REFRESH-INTERVAL;VALUE=DURATION:PT1H
X-Robots-Tag:noindex
X-PUBLISHED-TTL:PT1H
BEGIN:VTIMEZONE
TZID:UTC
BEGIN:STANDARD
TZOFFSETFROM:+0000
TZOFFSETTO:+0000
TZNAME:UTC
DTSTART:20250101T000000
END:STANDARD
END:VTIMEZONE
BEGIN:VEVENT
DTSTART;VALUE=DATE:20260307
DTEND;VALUE=DATE:20260308
DTSTAMP:20260422T215523
CREATED:20221228T121359Z
LAST-MODIFIED:20260117T184311Z
UID:576-1772841600-1772927999@jnhegelsom.nl
SUMMARY:Potgrondactie
DESCRIPTION:
URL:https://jnhegelsom.nl/event/potgrondactie/
LOCATION:Hegelsom
CATEGORIES:Actie
ATTACH;FMTTYPE=image/jpeg:https://jnhegelsom.nl/wp-content/uploads/2022/12/potgrond-1505140789_n-e1672229617176.jpg
END:VEVENT
END:VCALENDAR