BEGIN:VCALENDAR
VERSION:2.0
PRODID:-//Jong Nederland Hegelsom - ECPv6.15.12.2//NONSGML v1.0//EN
CALSCALE:GREGORIAN
METHOD:PUBLISH
X-ORIGINAL-URL:https://jnhegelsom.nl
X-WR-CALDESC:Evenementen voor Jong Nederland Hegelsom
REFRESH-INTERVAL;VALUE=DURATION:PT1H
X-Robots-Tag:noindex
X-PUBLISHED-TTL:PT1H
BEGIN:VTIMEZONE
TZID:UTC
BEGIN:STANDARD
TZOFFSETFROM:+0000
TZOFFSETTO:+0000
TZNAME:UTC
DTSTART:20250101T000000
END:STANDARD
END:VTIMEZONE
BEGIN:VEVENT
DTSTART;VALUE=DATE:20260131
DTEND;VALUE=DATE:20260201
DTSTAMP:20260422T175154
CREATED:20221228T121204Z
LAST-MODIFIED:20260117T184227Z
UID:573-1769817600-1769903999@jnhegelsom.nl
SUMMARY:Scharrelbal
DESCRIPTION:
URL:https://jnhegelsom.nl/event/scharrelbal/
LOCATION:Voetbalkantine
CATEGORIES:Activiteit
ATTACH;FMTTYPE=image/jpeg:https://jnhegelsom.nl/wp-content/uploads/2022/12/276064042_3393059527607798_1999617803134375330_n-e1672229513491.jpg
END:VEVENT
END:VCALENDAR